BEGIN:VCALENDAR
PRODID:-//Cornell Cooperative Extension of Sullivan County//NONSGML Cornell Cooperative Extension of Sullivan County Events//EN
X-ORIGINAL-URL:
VERSION:2.0
CALSCALE:GREGORIAN
METHOD:PUBLISH
BEGIN:VEVENT
METHOD: PUBLISH
X-MS-OLK-FORCEINSPECTOROPEN:TRUE
DTSTART:20260814T090900
DTEND:20260814T210900
SUMMARY:2026 Sullivan County Youth Fair
DTSTAMP:20110121T170000
LAST-MODIFIED:20260414T160444
CREATED:20260414T160444
SEQUENCE:0
TRANSP:TRANSPARENT
UID:32944
LOCATION:
URL:http://sullivancce.org/events/2026/08/14/2026-sullivan-county-youth-fair
DESCRIPTION:Come celebrate all that Cornell Cooperative Extension Sullivan County 4-H youth members, leaders, volunteers, and clubs have accomplished throughout the year. From creative still exhibits to entertaining live animal shows, there is something for everyone!The Sullivan County Youth Fair is offered annually in conjunction with the Grahamsville Little World&#39;s Fair, the third weekend of August. For entrance fees and more details, click here for the Grahamsville Little World&#39;s Fair Website. CCESC 4-H Fair Mission StatementSullivan County youth build skills and engage with the community in a safe, fun, and healthy learning environment with support from adult volunteers.Dozens of volunteers and CCE staff spend many hours pulling together hundreds of exhibits, factoring scheduling and space options, navigating animal and biosafety issues, coordinating and orienting volunteers and activities for the public, processing local, state, and Ag &amp; Markets paperwork, soliciting donations, training 4-H’ers in preparation for shows, and a number of other tasks to make fair a safe, fun, learning experience for our youth.Join us in celebrating the hard work and dedication of our 4-H youth and volunteers!
CLASS:PUBLIC
CATEGORIES:
STATUS:CONFIRMED
END:VEVENT
END:VCALENDAR
n/a