BEGIN:VCALENDAR
PRODID:-//Cornell Cooperative Extension of Sullivan County//NONSGML Cornell Cooperative Extension of Sullivan County Events//EN
X-ORIGINAL-URL:
VERSION:2.0
CALSCALE:GREGORIAN
METHOD:PUBLISH
BEGIN:VEVENT
METHOD: PUBLISH
X-MS-OLK-FORCEINSPECTOROPEN:TRUE
DTSTART:20260713T101000
DTEND:20260713T111100
SUMMARY:Caregiver Cafe’ Support Group July - Dec. 2026
DTSTAMP:20110121T170000
LAST-MODIFIED:20260421T090941
CREATED:20260421T090941
SEQUENCE:0
TRANSP:TRANSPARENT
UID:32966
LOCATION:
URL:http://sullivancce.org/events/2026/07/13/caregiver-cafe-support-group-july-dec-2026
DESCRIPTION:Attention Caregivers! Our in-person Caregiver Cafe is for you!The Caregiver Café taking place on the second Monday of each month (with the exception of October 19th) from July through December will offer a place to connect with others and resources available through the Caregiver Resource Center and Alzheimer&#39;s Association. Attendees will have the opportunity to share their concerns and share tips on managing stress, learn about dementia and Alzheimer&#39;s, and be provided with community resources. Occasional speakers will be invited to share their expertise.Breakfast will be provided at no cost!The Caregiver Resource Center is a co-partnered program between Cornell Cooperative Extension and Office for the Aging of Sullivan County and is supported by grants from the NYS Office for the Aging’s Caregiver Program and the Alzheimer’s Association.Cornell Cooperative Extension Sullivan County is an equal opportunity educator, provider and employer.
CLASS:PUBLIC
CATEGORIES:
STATUS:CONFIRMED
END:VEVENT
END:VCALENDAR
n/a