BEGIN:VCALENDAR
PRODID:-//Cornell Cooperative Extension of Sullivan County//NONSGML Cornell Cooperative Extension of Sullivan County Events//EN
X-ORIGINAL-URL:
VERSION:2.0
CALSCALE:GREGORIAN
METHOD:PUBLISH
BEGIN:VEVENT
METHOD: PUBLISH
X-MS-OLK-FORCEINSPECTOROPEN:TRUE
DTSTART:20230506T111100
DTEND:20230506T130100
SUMMARY:Pedestrian Count
DTSTAMP:20110121T170000
LAST-MODIFIED:20230424T090918
CREATED:20230424T090918
SEQUENCE:0
TRANSP:TRANSPARENT
UID:24943
LOCATION:
URL:http://sullivancce.org/events/2023/05/06/pedestrian-count
DESCRIPTION:We need your input to improve health in our community! Join us and tell us about your experience on the Hurleyville ‐ Sullivan O&amp;W Rail Trail!Calling all walkers, bikers, wheelers, and Sullivan County residents alike! We are looking to connect with you about the Hurleyville ‐ Sullivan O&amp;W Rail Trail and everything you like (or dislike) about it. Join up with Wanda Cruz, Healthy Communities Program Coordinator, to talk about how you use the trail, when you use it, and why to help her collect data and make the community a healthier and active place!There is no fee and no preregistration required to attend! If you have any questions or concerns, please contact Wanda Cruz, Healthy Communities Program Coordinator, at the information listed below.Cornell Cooperative Extension Sullivan County provides equal program and employment opportunities. The public can contact the office to request accommodations.
CLASS:PUBLIC
CATEGORIES:
STATUS:CONFIRMED
END:VEVENT
END:VCALENDAR
n/a